BEGIN:VCALENDAR
VERSION:2.0
PRODID:-//Freestyle Vancouver - ECPv6.15.17.1//NONSGML v1.0//EN
CALSCALE:GREGORIAN
METHOD:PUBLISH
X-ORIGINAL-URL:https://freestylevancouver.ski
X-WR-CALDESC:Events for Freestyle Vancouver
REFRESH-INTERVAL;VALUE=DURATION:PT1H
X-Robots-Tag:noindex
X-PUBLISHED-TTL:PT1H
BEGIN:VTIMEZONE
TZID:America/Vancouver
BEGIN:DAYLIGHT
TZOFFSETFROM:-0800
TZOFFSETTO:-0700
TZNAME:PDT
DTSTART:20260308T100000
END:DAYLIGHT
BEGIN:STANDARD
TZOFFSETFROM:-0700
TZOFFSETTO:-0800
TZNAME:PST
DTSTART:20261101T090000
END:STANDARD
BEGIN:DAYLIGHT
TZOFFSETFROM:-0800
TZOFFSETTO:-0700
TZNAME:PDT
DTSTART:20270314T100000
END:DAYLIGHT
BEGIN:STANDARD
TZOFFSETFROM:-0700
TZOFFSETTO:-0800
TZNAME:PST
DTSTART:20271107T090000
END:STANDARD
BEGIN:DAYLIGHT
TZOFFSETFROM:-0800
TZOFFSETTO:-0700
TZNAME:PDT
DTSTART:20280312T100000
END:DAYLIGHT
BEGIN:STANDARD
TZOFFSETFROM:-0700
TZOFFSETTO:-0800
TZNAME:PST
DTSTART:20281105T090000
END:STANDARD
BEGIN:DAYLIGHT
TZOFFSETFROM:-0800
TZOFFSETTO:-0700
TZNAME:PDT
DTSTART:20290311T100000
END:DAYLIGHT
BEGIN:STANDARD
TZOFFSETFROM:-0700
TZOFFSETTO:-0800
TZNAME:PST
DTSTART:20291104T090000
END:STANDARD
END:VTIMEZONE
BEGIN:VEVENT
DTSTART;TZID=America/Vancouver:20270614T190000
DTEND;TZID=America/Vancouver:20270614T200000
DTSTAMP:20260420T024549
CREATED:20250615T001849Z
LAST-MODIFIED:20260414T003725Z
UID:10014485-1812999600-1813003200@freestylevancouver.ski
SUMMARY:Freestyle Board Meeting
DESCRIPTION:Join with Google Meet: https://meet.google.com/wnc-ibdi-yiy\nOr dial: (CA) +1 226-213-8693 PIN: 841752551#\nMore phone numbers: https://tel.meet/wnc-ibdi-yiy?pin=2929110378135&hs=7\nLearn more about Meet at: https://support.google.com/a/users/answer/9282720
URL:https://freestylevancouver.ski/event/freestyle-board-meeting-26/
END:VEVENT
BEGIN:VEVENT
DTSTART;TZID=America/Vancouver:20270712T190000
DTEND;TZID=America/Vancouver:20270712T200000
DTSTAMP:20260420T024549
CREATED:20250713T005011Z
LAST-MODIFIED:20260414T003725Z
UID:10014486-1815418800-1815422400@freestylevancouver.ski
SUMMARY:Freestyle Board Meeting
DESCRIPTION:Join with Google Meet: https://meet.google.com/wnc-ibdi-yiy\nOr dial: (CA) +1 226-213-8693 PIN: 841752551#\nMore phone numbers: https://tel.meet/wnc-ibdi-yiy?pin=2929110378135&hs=7\nLearn more about Meet at: https://support.google.com/a/users/answer/9282720
URL:https://freestylevancouver.ski/event/freestyle-board-meeting-27/
END:VEVENT
BEGIN:VEVENT
DTSTART;TZID=America/Vancouver:20270809T190000
DTEND;TZID=America/Vancouver:20270809T200000
DTSTAMP:20260420T024549
CREATED:20250810T001952Z
LAST-MODIFIED:20260414T003725Z
UID:10014487-1817838000-1817841600@freestylevancouver.ski
SUMMARY:Freestyle Board Meeting
DESCRIPTION:Join with Google Meet: https://meet.google.com/wnc-ibdi-yiy\nOr dial: (CA) +1 226-213-8693 PIN: 841752551#\nMore phone numbers: https://tel.meet/wnc-ibdi-yiy?pin=2929110378135&hs=7\nLearn more about Meet at: https://support.google.com/a/users/answer/9282720
URL:https://freestylevancouver.ski/event/freestyle-board-meeting-28/
END:VEVENT
BEGIN:VEVENT
DTSTART;TZID=America/Vancouver:20270913T190000
DTEND;TZID=America/Vancouver:20270913T200000
DTSTAMP:20260420T024549
CREATED:20250914T002029Z
LAST-MODIFIED:20260414T003725Z
UID:10014488-1820862000-1820865600@freestylevancouver.ski
SUMMARY:Freestyle Board Meeting
DESCRIPTION:Join with Google Meet: https://meet.google.com/wnc-ibdi-yiy\nOr dial: (CA) +1 226-213-8693 PIN: 841752551#\nMore phone numbers: https://tel.meet/wnc-ibdi-yiy?pin=2929110378135&hs=7\nLearn more about Meet at: https://support.google.com/a/users/answer/9282720
URL:https://freestylevancouver.ski/event/freestyle-board-meeting-29/
END:VEVENT
BEGIN:VEVENT
DTSTART;TZID=America/Vancouver:20271011T190000
DTEND;TZID=America/Vancouver:20271011T200000
DTSTAMP:20260420T024549
CREATED:20251012T003636Z
LAST-MODIFIED:20260414T003725Z
UID:10014489-1823281200-1823284800@freestylevancouver.ski
SUMMARY:Freestyle Board Meeting
DESCRIPTION:Join with Google Meet: https://meet.google.com/wnc-ibdi-yiy\nOr dial: (CA) +1 226-213-8693 PIN: 841752551#\nMore phone numbers: https://tel.meet/wnc-ibdi-yiy?pin=2929110378135&hs=7\nLearn more about Meet at: https://support.google.com/a/users/answer/9282720
URL:https://freestylevancouver.ski/event/freestyle-board-meeting-30/
END:VEVENT
BEGIN:VEVENT
DTSTART;TZID=America/Vancouver:20271108T190000
DTEND;TZID=America/Vancouver:20271108T200000
DTSTAMP:20260420T024549
CREATED:20251109T003500Z
LAST-MODIFIED:20260414T003725Z
UID:10014490-1825700400-1825704000@freestylevancouver.ski
SUMMARY:Freestyle Board Meeting
DESCRIPTION:Join with Google Meet: https://meet.google.com/wnc-ibdi-yiy\nOr dial: (CA) +1 226-213-8693 PIN: 841752551#\nMore phone numbers: https://tel.meet/wnc-ibdi-yiy?pin=2929110378135&hs=7\nLearn more about Meet at: https://support.google.com/a/users/answer/9282720
URL:https://freestylevancouver.ski/event/freestyle-board-meeting-31/
END:VEVENT
BEGIN:VEVENT
DTSTART;TZID=America/Vancouver:20271213T190000
DTEND;TZID=America/Vancouver:20271213T200000
DTSTAMP:20260420T024549
CREATED:20251214T010703Z
LAST-MODIFIED:20260414T003726Z
UID:10014492-1828724400-1828728000@freestylevancouver.ski
SUMMARY:Freestyle Board Meeting
DESCRIPTION:Join with Google Meet: https://meet.google.com/wnc-ibdi-yiy\nOr dial: (CA) +1 226-213-8693 PIN: 841752551#\nMore phone numbers: https://tel.meet/wnc-ibdi-yiy?pin=2929110378135&hs=7\nLearn more about Meet at: https://support.google.com/a/users/answer/9282720
URL:https://freestylevancouver.ski/event/freestyle-board-meeting-32/
END:VEVENT
BEGIN:VEVENT
DTSTART;TZID=America/Vancouver:20280110T190000
DTEND;TZID=America/Vancouver:20280110T200000
DTSTAMP:20260420T024549
CREATED:20260111T000629Z
LAST-MODIFIED:20260414T003726Z
UID:10014493-1831143600-1831147200@freestylevancouver.ski
SUMMARY:Freestyle Board Meeting
DESCRIPTION:Join with Google Meet: https://meet.google.com/wnc-ibdi-yiy\nOr dial: (CA) +1 226-213-8693 PIN: 841752551#\nMore phone numbers: https://tel.meet/wnc-ibdi-yiy?pin=2929110378135&hs=7\nLearn more about Meet at: https://support.google.com/a/users/answer/9282720
URL:https://freestylevancouver.ski/event/freestyle-board-meeting-33/
END:VEVENT
BEGIN:VEVENT
DTSTART;TZID=America/Vancouver:20280214T190000
DTEND;TZID=America/Vancouver:20280214T200000
DTSTAMP:20260420T024549
CREATED:20260215T002004Z
LAST-MODIFIED:20260414T003726Z
UID:10014639-1834167600-1834171200@freestylevancouver.ski
SUMMARY:Freestyle Board Meeting
DESCRIPTION:Join with Google Meet: https://meet.google.com/wnc-ibdi-yiy\nOr dial: (CA) +1 226-213-8693 PIN: 841752551#\nMore phone numbers: https://tel.meet/wnc-ibdi-yiy?pin=2929110378135&hs=7\nLearn more about Meet at: https://support.google.com/a/users/answer/9282720
URL:https://freestylevancouver.ski/event/freestyle-board-meeting-34/
END:VEVENT
BEGIN:VEVENT
DTSTART;TZID=America/Vancouver:20280313T190000
DTEND;TZID=America/Vancouver:20280313T200000
DTSTAMP:20260420T024549
CREATED:20260314T051702Z
LAST-MODIFIED:20260414T003726Z
UID:10014640-1836586800-1836590400@freestylevancouver.ski
SUMMARY:Freestyle Board Meeting
DESCRIPTION:Join with Google Meet: https://meet.google.com/wnc-ibdi-yiy\nOr dial: (CA) +1 226-213-8693 PIN: 841752551#\nMore phone numbers: https://tel.meet/wnc-ibdi-yiy?pin=2929110378135&hs=7\nLearn more about Meet at: https://support.google.com/a/users/answer/9282720
URL:https://freestylevancouver.ski/event/freestyle-board-meeting-35/
END:VEVENT
BEGIN:VEVENT
DTSTART;TZID=America/Vancouver:20280410T190000
DTEND;TZID=America/Vancouver:20280410T200000
DTSTAMP:20260420T024549
CREATED:20260411T000454Z
LAST-MODIFIED:20260414T003726Z
UID:10014641-1839006000-1839009600@freestylevancouver.ski
SUMMARY:Freestyle Board Meeting
DESCRIPTION:Join with Google Meet: https://meet.google.com/wnc-ibdi-yiy\nOr dial: (CA) +1 226-213-8693 PIN: 841752551#\nMore phone numbers: https://tel.meet/wnc-ibdi-yiy?pin=2929110378135&hs=7\nLearn more about Meet at: https://support.google.com/a/users/answer/9282720
URL:https://freestylevancouver.ski/event/freestyle-board-meeting-36/
END:VEVENT
END:VCALENDAR